BEGIN:VCALENDAR
VERSION:2.0
PRODID:-//Gold Wing Touring Association - ECPv6.15.20//NONSGML v1.0//EN
CALSCALE:GREGORIAN
METHOD:PUBLISH
X-WR-CALNAME:Gold Wing Touring Association
X-ORIGINAL-URL:https://gwta.org
X-WR-CALDESC:Events for Gold Wing Touring Association
REFRESH-INTERVAL;VALUE=DURATION:PT1H
X-Robots-Tag:noindex
X-PUBLISHED-TTL:PT1H
BEGIN:VTIMEZONE
TZID:America/Chicago
BEGIN:DAYLIGHT
TZOFFSETFROM:-0600
TZOFFSETTO:-0500
TZNAME:CDT
DTSTART:20250309T080000
END:DAYLIGHT
BEGIN:STANDARD
TZOFFSETFROM:-0500
TZOFFSETTO:-0600
TZNAME:CST
DTSTART:20251102T070000
END:STANDARD
BEGIN:DAYLIGHT
TZOFFSETFROM:-0600
TZOFFSETTO:-0500
TZNAME:CDT
DTSTART:20260308T080000
END:DAYLIGHT
BEGIN:STANDARD
TZOFFSETFROM:-0500
TZOFFSETTO:-0600
TZNAME:CST
DTSTART:20261101T070000
END:STANDARD
BEGIN:DAYLIGHT
TZOFFSETFROM:-0600
TZOFFSETTO:-0500
TZNAME:CDT
DTSTART:20270314T080000
END:DAYLIGHT
BEGIN:STANDARD
TZOFFSETFROM:-0500
TZOFFSETTO:-0600
TZNAME:CST
DTSTART:20271107T070000
END:STANDARD
END:VTIMEZONE
BEGIN:VEVENT
DTSTART;VALUE=DATE:20260101
DTEND;VALUE=DATE:20260102
DTSTAMP:20260425T091939
CREATED:20250928T193526Z
LAST-MODIFIED:20250928T193526Z
UID:13589-1767225600-1767311999@gwta.org
SUMMARY:Chapter A's Polar Bear Ride
DESCRIPTION:Come out and enjoy New Years Day with us on our 36th Polar Bear Ride. \nHave a brisk ride to start the year\, then enjoy a buffet breakfast. \nSee Flyer for more details
URL:https://gwta.org/event/chapter-as-polar-bear-ride/
LOCATION:Eagles Hall\, 1492 Bourbon St\, Stockton\, CA\, 95209\, United States
END:VEVENT
END:VCALENDAR