BEGIN:VCALENDAR
VERSION:2.0
PRODID:-//Gold Wing Touring Association - ECPv6.15.20//NONSGML v1.0//EN
CALSCALE:GREGORIAN
METHOD:PUBLISH
X-WR-CALNAME:Gold Wing Touring Association
X-ORIGINAL-URL:https://gwta.org
X-WR-CALDESC:Events for Gold Wing Touring Association
REFRESH-INTERVAL;VALUE=DURATION:PT1H
X-Robots-Tag:noindex
X-PUBLISHED-TTL:PT1H
BEGIN:VTIMEZONE
TZID:America/Chicago
BEGIN:DAYLIGHT
TZOFFSETFROM:-0600
TZOFFSETTO:-0500
TZNAME:CDT
DTSTART:20250309T080000
END:DAYLIGHT
BEGIN:STANDARD
TZOFFSETFROM:-0500
TZOFFSETTO:-0600
TZNAME:CST
DTSTART:20251102T070000
END:STANDARD
BEGIN:DAYLIGHT
TZOFFSETFROM:-0600
TZOFFSETTO:-0500
TZNAME:CDT
DTSTART:20260308T080000
END:DAYLIGHT
BEGIN:STANDARD
TZOFFSETFROM:-0500
TZOFFSETTO:-0600
TZNAME:CST
DTSTART:20261101T070000
END:STANDARD
BEGIN:DAYLIGHT
TZOFFSETFROM:-0600
TZOFFSETTO:-0500
TZNAME:CDT
DTSTART:20270314T080000
END:DAYLIGHT
BEGIN:STANDARD
TZOFFSETFROM:-0500
TZOFFSETTO:-0600
TZNAME:CST
DTSTART:20271107T070000
END:STANDARD
BEGIN:DAYLIGHT
TZOFFSETFROM:-0600
TZOFFSETTO:-0500
TZNAME:CDT
DTSTART:20280312T080000
END:DAYLIGHT
BEGIN:STANDARD
TZOFFSETFROM:-0500
TZOFFSETTO:-0600
TZNAME:CST
DTSTART:20281105T070000
END:STANDARD
END:VTIMEZONE
BEGIN:VEVENT
DTSTART;VALUE=DATE:20260228
DTEND;VALUE=DATE:20260301
DTSTAMP:20260425T104022
CREATED:20251206T060155Z
LAST-MODIFIED:20251206T060155Z
UID:13715-1772236800-1772323199@gwta.org
SUMMARY:California's Mid Winter Gathering
DESCRIPTION:Chapter F Mid Winter Gathering will be held on Saturday\, February 28th at the Salvation Army\, 286 Sutter Street\, Auburn\, California. Thee will be games\, prizes\, raffles\, and of course\, food. \nSee Flyer for more info
URL:https://gwta.org/event/californias-mid-winter-gathering/
LOCATION:Salvation Army\, 286 Sutter St
ORGANIZER;CN="Ron Smith":MAILTO:rivercitywingsrjs@gmail.com
END:VEVENT
BEGIN:VEVENT
DTSTART;VALUE=DATE:20260529
DTEND;VALUE=DATE:20260602
DTSTAMP:20260425T104022
CREATED:20250928T194119Z
LAST-MODIFIED:20260312T044736Z
UID:13592-1780012800-1780358399@gwta.org
SUMMARY:California's Spring Fling
DESCRIPTION:Join us for a weekend of fun. Get your patriotism on. Pre-Registration to Dec 15\, 2025 + $5 GWTA members / $10 for non members After Dec 15\, 2025 registration $20 GWTA members / $25 non members Youth 15 and under are FREE – Day Passes $20 p/person \nSee Flyer for more details
URL:https://gwta.org/event/californias-spring-fling/
LOCATION:Riverwalk\, 2189 Riverwalk Dr\, Fortuna\, CA\, 95540\, United States
END:VEVENT
BEGIN:VEVENT
DTSTART;VALUE=DATE:20260605
DTEND;VALUE=DATE:20260607
DTSTAMP:20260425T104022
CREATED:20260217T050013Z
LAST-MODIFIED:20260217T050013Z
UID:13914-1780617600-1780790399@gwta.org
SUMMARY:Region C Rally
DESCRIPTION:Stoney Creek Hotel\n2 Queen Beds or King Bed: $124/night +tax\n*Complimentary Breakfast/Bar/On-Site Parling* \nRally fee includes 2 days of activities & Saturday evening dinner. Bonus activity Thursday evening\, June 4th\nAdults: $50 before May 1\, 2026\, $55 after May 1\, 2026\nNon-Members: $60 Before May 1\, 2026\, $65 after May 1\, 2026 \nSee Flyer for more info
URL:https://gwta.org/event/region-c-rally/
LOCATION:Stoney Creek Hotel\, 300 3rd St\, Sioux City\, IA\, 51101
END:VEVENT
BEGIN:VEVENT
DTSTART;VALUE=DATE:20260713
DTEND;VALUE=DATE:20260717
DTSTAMP:20260425T104022
CREATED:20221114T212525Z
LAST-MODIFIED:20260418T041337Z
UID:5778-1783900800-1784246399@gwta.org
SUMMARY:GOLD RUSH XXXVlll
DESCRIPTION:GOLD RUSH XXXVIIIJuly 13 – 16\, 2026 \nDoubletree by HiltonOne Wenonah Park PlaceBay City\, MI 48708Deadline for Rally Rate is June 21\, 2026 \nEvent Registration Form (pdf) \nEvent On-Line Registration (Members Only) \nOn-line Hotel Reservationshttps://book.passkey.com/event/51086616/owner/50269177/home \nYou must show your current membership card to retain your membership registration rates at Gold Rush.Expired cards will not be accepted. DAY PASSES are $35 \nRoom RatesRally room rate is $134 +tax; rate is subject to current taxes and fees at time of the rally. \nThis years theme is “Pirates”
URL:https://gwta.org/event/gold-rush/
LOCATION:DoubleTree by Hilton\, One Wenonah Park Place\, Bay City\, MI\, 48708
ORGANIZER;CN="Carol Brush":MAILTO:brush4gwta@gmail.com
END:VEVENT
BEGIN:VEVENT
DTSTART;VALUE=DATE:20261002
DTEND;VALUE=DATE:20261005
DTSTAMP:20260425T104022
CREATED:20250213T045749Z
LAST-MODIFIED:20260217T044848Z
UID:12086-1790899200-1791158399@gwta.org
SUMMARY:2026 Fall Fiesta - California
DESCRIPTION:California State Campout\nFall State Staff Meeting\n& of course\, the infamous\nTortilla Toss Championship \nNo Registration Fees\nCamping & Lunch Fees Only!\n$57 p/night for full hookup\n$29 p/night per 1/2 shared site\n$8 a person for lunch \nState Staff Meeting\n10 am Saturday Morning at Campsite ‘C’\n9am donuts \nFlyer
URL:https://gwta.org/event/2025-fall-fiesta-california/
LOCATION:Sycamore Ranch\, 5320 Highway 20\, Browns Valley\, CA\, 95918
END:VEVENT
BEGIN:VEVENT
DTSTART;VALUE=DATE:20270101
DTEND;VALUE=DATE:20270102
DTSTAMP:20260425T104022
CREATED:20260317T043606Z
LAST-MODIFIED:20260317T043606Z
UID:14433-1798761600-1798847999@gwta.org
SUMMARY:37th Ride'n Free Polar Bear Ride
DESCRIPTION:Come out and enjoy New Years Day. Donuts\, Coffee\, Brunch Buffet \n  \nSee Flyer for Details
URL:https://gwta.org/event/37th-riden-free-polar-bear-ride/
LOCATION:Eagles Hall\, 1492 Bourbon St\, Stockton\, CA\, 95209\, United States
END:VEVENT
END:VCALENDAR